BEGIN:VCALENDAR
VERSION:2.0
PRODID:-//Rooted - ECPv6.15.20//NONSGML v1.0//EN
CALSCALE:GREGORIAN
METHOD:PUBLISH
X-ORIGINAL-URL:https://rootedvalley.com
X-WR-CALDESC:Events for Rooted
REFRESH-INTERVAL;VALUE=DURATION:PT1H
X-Robots-Tag:noindex
X-PUBLISHED-TTL:PT1H
BEGIN:VTIMEZONE
TZID:America/Los_Angeles
BEGIN:DAYLIGHT
TZOFFSETFROM:-0800
TZOFFSETTO:-0700
TZNAME:PDT
DTSTART:20270314T100000
END:DAYLIGHT
BEGIN:STANDARD
TZOFFSETFROM:-0700
TZOFFSETTO:-0800
TZNAME:PST
DTSTART:20271107T090000
END:STANDARD
BEGIN:DAYLIGHT
TZOFFSETFROM:-0800
TZOFFSETTO:-0700
TZNAME:PDT
DTSTART:20280312T100000
END:DAYLIGHT
BEGIN:STANDARD
TZOFFSETFROM:-0700
TZOFFSETTO:-0800
TZNAME:PST
DTSTART:20281105T090000
END:STANDARD
BEGIN:DAYLIGHT
TZOFFSETFROM:-0800
TZOFFSETTO:-0700
TZNAME:PDT
DTSTART:20290311T100000
END:DAYLIGHT
BEGIN:STANDARD
TZOFFSETFROM:-0700
TZOFFSETTO:-0800
TZNAME:PST
DTSTART:20291104T090000
END:STANDARD
BEGIN:DAYLIGHT
TZOFFSETFROM:-0800
TZOFFSETTO:-0700
TZNAME:PDT
DTSTART:20300310T100000
END:DAYLIGHT
BEGIN:STANDARD
TZOFFSETFROM:-0700
TZOFFSETTO:-0800
TZNAME:PST
DTSTART:20301103T090000
END:STANDARD
END:VTIMEZONE
BEGIN:VEVENT
DTSTART;TZID=America/Los_Angeles:20280420T180000
DTEND;TZID=America/Los_Angeles:20280420T200000
DTSTAMP:20260425T182627
CREATED:20260424T201147Z
LAST-MODIFIED:20260424T201147Z
UID:10000069-1839866400-1839873600@rootedvalley.com
SUMMARY:Downtown Yakima Run Club
DESCRIPTION:Downtown Yakima Run Club meets every other Thursday at 6pm
URL:https://rootedvalley.com/event/downtown-yakima-run-club/2028-04-20/
ATTACH;FMTTYPE=image/png:https://rootedvalley.com/wp-content/uploads/2026/04/Orange-Modern-Summer-Trail-Run-Event-Instagram-Post-16-x-9-in.png
ORGANIZER;CN="Rooted Yakima Valley":MAILTO:info@rootedvalley.com
END:VEVENT
BEGIN:VEVENT
DTSTART;TZID=America/Los_Angeles:20280504T180000
DTEND;TZID=America/Los_Angeles:20280504T200000
DTSTAMP:20260425T182627
CREATED:20260424T201147Z
LAST-MODIFIED:20260424T201147Z
UID:10000070-1841076000-1841083200@rootedvalley.com
SUMMARY:Downtown Yakima Run Club
DESCRIPTION:Downtown Yakima Run Club meets every other Thursday at 6pm
URL:https://rootedvalley.com/event/downtown-yakima-run-club/2028-05-04/
ATTACH;FMTTYPE=image/png:https://rootedvalley.com/wp-content/uploads/2026/04/Orange-Modern-Summer-Trail-Run-Event-Instagram-Post-16-x-9-in.png
ORGANIZER;CN="Rooted Yakima Valley":MAILTO:info@rootedvalley.com
END:VEVENT
BEGIN:VEVENT
DTSTART;TZID=America/Los_Angeles:20280518T180000
DTEND;TZID=America/Los_Angeles:20280518T200000
DTSTAMP:20260425T182627
CREATED:20260424T201147Z
LAST-MODIFIED:20260424T201147Z
UID:10000071-1842285600-1842292800@rootedvalley.com
SUMMARY:Downtown Yakima Run Club
DESCRIPTION:Downtown Yakima Run Club meets every other Thursday at 6pm
URL:https://rootedvalley.com/event/downtown-yakima-run-club/2028-05-18/
ATTACH;FMTTYPE=image/png:https://rootedvalley.com/wp-content/uploads/2026/04/Orange-Modern-Summer-Trail-Run-Event-Instagram-Post-16-x-9-in.png
ORGANIZER;CN="Rooted Yakima Valley":MAILTO:info@rootedvalley.com
END:VEVENT
BEGIN:VEVENT
DTSTART;TZID=America/Los_Angeles:20280601T180000
DTEND;TZID=America/Los_Angeles:20280601T200000
DTSTAMP:20260425T182627
CREATED:20260424T201147Z
LAST-MODIFIED:20260424T201147Z
UID:10000072-1843495200-1843502400@rootedvalley.com
SUMMARY:Downtown Yakima Run Club
DESCRIPTION:Downtown Yakima Run Club meets every other Thursday at 6pm
URL:https://rootedvalley.com/event/downtown-yakima-run-club/2028-06-01/
ATTACH;FMTTYPE=image/png:https://rootedvalley.com/wp-content/uploads/2026/04/Orange-Modern-Summer-Trail-Run-Event-Instagram-Post-16-x-9-in.png
ORGANIZER;CN="Rooted Yakima Valley":MAILTO:info@rootedvalley.com
END:VEVENT
BEGIN:VEVENT
DTSTART;TZID=America/Los_Angeles:20280615T180000
DTEND;TZID=America/Los_Angeles:20280615T200000
DTSTAMP:20260425T182627
CREATED:20260424T201147Z
LAST-MODIFIED:20260424T201147Z
UID:10000073-1844704800-1844712000@rootedvalley.com
SUMMARY:Downtown Yakima Run Club
DESCRIPTION:Downtown Yakima Run Club meets every other Thursday at 6pm
URL:https://rootedvalley.com/event/downtown-yakima-run-club/2028-06-15/
ATTACH;FMTTYPE=image/png:https://rootedvalley.com/wp-content/uploads/2026/04/Orange-Modern-Summer-Trail-Run-Event-Instagram-Post-16-x-9-in.png
ORGANIZER;CN="Rooted Yakima Valley":MAILTO:info@rootedvalley.com
END:VEVENT
BEGIN:VEVENT
DTSTART;TZID=America/Los_Angeles:20280629T180000
DTEND;TZID=America/Los_Angeles:20280629T200000
DTSTAMP:20260425T182627
CREATED:20260424T201147Z
LAST-MODIFIED:20260424T201147Z
UID:10000074-1845914400-1845921600@rootedvalley.com
SUMMARY:Downtown Yakima Run Club
DESCRIPTION:Downtown Yakima Run Club meets every other Thursday at 6pm
URL:https://rootedvalley.com/event/downtown-yakima-run-club/2028-06-29/
ATTACH;FMTTYPE=image/png:https://rootedvalley.com/wp-content/uploads/2026/04/Orange-Modern-Summer-Trail-Run-Event-Instagram-Post-16-x-9-in.png
ORGANIZER;CN="Rooted Yakima Valley":MAILTO:info@rootedvalley.com
END:VEVENT
BEGIN:VEVENT
DTSTART;TZID=America/Los_Angeles:20280713T180000
DTEND;TZID=America/Los_Angeles:20280713T200000
DTSTAMP:20260425T182627
CREATED:20260424T201147Z
LAST-MODIFIED:20260424T201147Z
UID:10000075-1847124000-1847131200@rootedvalley.com
SUMMARY:Downtown Yakima Run Club
DESCRIPTION:Downtown Yakima Run Club meets every other Thursday at 6pm
URL:https://rootedvalley.com/event/downtown-yakima-run-club/2028-07-13/
ATTACH;FMTTYPE=image/png:https://rootedvalley.com/wp-content/uploads/2026/04/Orange-Modern-Summer-Trail-Run-Event-Instagram-Post-16-x-9-in.png
ORGANIZER;CN="Rooted Yakima Valley":MAILTO:info@rootedvalley.com
END:VEVENT
BEGIN:VEVENT
DTSTART;TZID=America/Los_Angeles:20280727T180000
DTEND;TZID=America/Los_Angeles:20280727T200000
DTSTAMP:20260425T182627
CREATED:20260424T201147Z
LAST-MODIFIED:20260424T201147Z
UID:10000076-1848333600-1848340800@rootedvalley.com
SUMMARY:Downtown Yakima Run Club
DESCRIPTION:Downtown Yakima Run Club meets every other Thursday at 6pm
URL:https://rootedvalley.com/event/downtown-yakima-run-club/2028-07-27/
ATTACH;FMTTYPE=image/png:https://rootedvalley.com/wp-content/uploads/2026/04/Orange-Modern-Summer-Trail-Run-Event-Instagram-Post-16-x-9-in.png
ORGANIZER;CN="Rooted Yakima Valley":MAILTO:info@rootedvalley.com
END:VEVENT
BEGIN:VEVENT
DTSTART;TZID=America/Los_Angeles:20280810T180000
DTEND;TZID=America/Los_Angeles:20280810T200000
DTSTAMP:20260425T182627
CREATED:20260424T201147Z
LAST-MODIFIED:20260424T201147Z
UID:10000077-1849543200-1849550400@rootedvalley.com
SUMMARY:Downtown Yakima Run Club
DESCRIPTION:Downtown Yakima Run Club meets every other Thursday at 6pm
URL:https://rootedvalley.com/event/downtown-yakima-run-club/2028-08-10/
ATTACH;FMTTYPE=image/png:https://rootedvalley.com/wp-content/uploads/2026/04/Orange-Modern-Summer-Trail-Run-Event-Instagram-Post-16-x-9-in.png
ORGANIZER;CN="Rooted Yakima Valley":MAILTO:info@rootedvalley.com
END:VEVENT
BEGIN:VEVENT
DTSTART;TZID=America/Los_Angeles:20280824T180000
DTEND;TZID=America/Los_Angeles:20280824T200000
DTSTAMP:20260425T182627
CREATED:20260424T201147Z
LAST-MODIFIED:20260424T201147Z
UID:10000078-1850752800-1850760000@rootedvalley.com
SUMMARY:Downtown Yakima Run Club
DESCRIPTION:Downtown Yakima Run Club meets every other Thursday at 6pm
URL:https://rootedvalley.com/event/downtown-yakima-run-club/2028-08-24/
ATTACH;FMTTYPE=image/png:https://rootedvalley.com/wp-content/uploads/2026/04/Orange-Modern-Summer-Trail-Run-Event-Instagram-Post-16-x-9-in.png
ORGANIZER;CN="Rooted Yakima Valley":MAILTO:info@rootedvalley.com
END:VEVENT
BEGIN:VEVENT
DTSTART;TZID=America/Los_Angeles:20280907T180000
DTEND;TZID=America/Los_Angeles:20280907T200000
DTSTAMP:20260425T182627
CREATED:20260424T201147Z
LAST-MODIFIED:20260424T201147Z
UID:10000079-1851962400-1851969600@rootedvalley.com
SUMMARY:Downtown Yakima Run Club
DESCRIPTION:Downtown Yakima Run Club meets every other Thursday at 6pm
URL:https://rootedvalley.com/event/downtown-yakima-run-club/2028-09-07/
ATTACH;FMTTYPE=image/png:https://rootedvalley.com/wp-content/uploads/2026/04/Orange-Modern-Summer-Trail-Run-Event-Instagram-Post-16-x-9-in.png
ORGANIZER;CN="Rooted Yakima Valley":MAILTO:info@rootedvalley.com
END:VEVENT
BEGIN:VEVENT
DTSTART;TZID=America/Los_Angeles:20280921T180000
DTEND;TZID=America/Los_Angeles:20280921T200000
DTSTAMP:20260425T182627
CREATED:20260424T201147Z
LAST-MODIFIED:20260424T201147Z
UID:10000080-1853172000-1853179200@rootedvalley.com
SUMMARY:Downtown Yakima Run Club
DESCRIPTION:Downtown Yakima Run Club meets every other Thursday at 6pm
URL:https://rootedvalley.com/event/downtown-yakima-run-club/2028-09-21/
ATTACH;FMTTYPE=image/png:https://rootedvalley.com/wp-content/uploads/2026/04/Orange-Modern-Summer-Trail-Run-Event-Instagram-Post-16-x-9-in.png
ORGANIZER;CN="Rooted Yakima Valley":MAILTO:info@rootedvalley.com
END:VEVENT
BEGIN:VEVENT
DTSTART;TZID=America/Los_Angeles:20281005T180000
DTEND;TZID=America/Los_Angeles:20281005T200000
DTSTAMP:20260425T182627
CREATED:20260424T201147Z
LAST-MODIFIED:20260424T201147Z
UID:10000081-1854381600-1854388800@rootedvalley.com
SUMMARY:Downtown Yakima Run Club
DESCRIPTION:Downtown Yakima Run Club meets every other Thursday at 6pm
URL:https://rootedvalley.com/event/downtown-yakima-run-club/2028-10-05/
ATTACH;FMTTYPE=image/png:https://rootedvalley.com/wp-content/uploads/2026/04/Orange-Modern-Summer-Trail-Run-Event-Instagram-Post-16-x-9-in.png
ORGANIZER;CN="Rooted Yakima Valley":MAILTO:info@rootedvalley.com
END:VEVENT
BEGIN:VEVENT
DTSTART;TZID=America/Los_Angeles:20281019T180000
DTEND;TZID=America/Los_Angeles:20281019T200000
DTSTAMP:20260425T182627
CREATED:20260424T201147Z
LAST-MODIFIED:20260424T201147Z
UID:10000082-1855591200-1855598400@rootedvalley.com
SUMMARY:Downtown Yakima Run Club
DESCRIPTION:Downtown Yakima Run Club meets every other Thursday at 6pm
URL:https://rootedvalley.com/event/downtown-yakima-run-club/2028-10-19/
ATTACH;FMTTYPE=image/png:https://rootedvalley.com/wp-content/uploads/2026/04/Orange-Modern-Summer-Trail-Run-Event-Instagram-Post-16-x-9-in.png
ORGANIZER;CN="Rooted Yakima Valley":MAILTO:info@rootedvalley.com
END:VEVENT
BEGIN:VEVENT
DTSTART;TZID=America/Los_Angeles:20281102T180000
DTEND;TZID=America/Los_Angeles:20281102T200000
DTSTAMP:20260425T182627
CREATED:20260424T201147Z
LAST-MODIFIED:20260424T201147Z
UID:10000083-1856800800-1856808000@rootedvalley.com
SUMMARY:Downtown Yakima Run Club
DESCRIPTION:Downtown Yakima Run Club meets every other Thursday at 6pm
URL:https://rootedvalley.com/event/downtown-yakima-run-club/2028-11-02/
ATTACH;FMTTYPE=image/png:https://rootedvalley.com/wp-content/uploads/2026/04/Orange-Modern-Summer-Trail-Run-Event-Instagram-Post-16-x-9-in.png
ORGANIZER;CN="Rooted Yakima Valley":MAILTO:info@rootedvalley.com
END:VEVENT
BEGIN:VEVENT
DTSTART;TZID=America/Los_Angeles:20281116T180000
DTEND;TZID=America/Los_Angeles:20281116T200000
DTSTAMP:20260425T182627
CREATED:20260424T201147Z
LAST-MODIFIED:20260424T201147Z
UID:10000084-1858010400-1858017600@rootedvalley.com
SUMMARY:Downtown Yakima Run Club
DESCRIPTION:Downtown Yakima Run Club meets every other Thursday at 6pm
URL:https://rootedvalley.com/event/downtown-yakima-run-club/2028-11-16/
ATTACH;FMTTYPE=image/png:https://rootedvalley.com/wp-content/uploads/2026/04/Orange-Modern-Summer-Trail-Run-Event-Instagram-Post-16-x-9-in.png
ORGANIZER;CN="Rooted Yakima Valley":MAILTO:info@rootedvalley.com
END:VEVENT
BEGIN:VEVENT
DTSTART;TZID=America/Los_Angeles:20281130T180000
DTEND;TZID=America/Los_Angeles:20281130T200000
DTSTAMP:20260425T182627
CREATED:20260424T201147Z
LAST-MODIFIED:20260424T201147Z
UID:10000085-1859220000-1859227200@rootedvalley.com
SUMMARY:Downtown Yakima Run Club
DESCRIPTION:Downtown Yakima Run Club meets every other Thursday at 6pm
URL:https://rootedvalley.com/event/downtown-yakima-run-club/2028-11-30/
ATTACH;FMTTYPE=image/png:https://rootedvalley.com/wp-content/uploads/2026/04/Orange-Modern-Summer-Trail-Run-Event-Instagram-Post-16-x-9-in.png
ORGANIZER;CN="Rooted Yakima Valley":MAILTO:info@rootedvalley.com
END:VEVENT
BEGIN:VEVENT
DTSTART;TZID=America/Los_Angeles:20281214T180000
DTEND;TZID=America/Los_Angeles:20281214T200000
DTSTAMP:20260425T182627
CREATED:20260424T201147Z
LAST-MODIFIED:20260424T201147Z
UID:10000086-1860429600-1860436800@rootedvalley.com
SUMMARY:Downtown Yakima Run Club
DESCRIPTION:Downtown Yakima Run Club meets every other Thursday at 6pm
URL:https://rootedvalley.com/event/downtown-yakima-run-club/2028-12-14/
ATTACH;FMTTYPE=image/png:https://rootedvalley.com/wp-content/uploads/2026/04/Orange-Modern-Summer-Trail-Run-Event-Instagram-Post-16-x-9-in.png
ORGANIZER;CN="Rooted Yakima Valley":MAILTO:info@rootedvalley.com
END:VEVENT
BEGIN:VEVENT
DTSTART;TZID=America/Los_Angeles:20281228T180000
DTEND;TZID=America/Los_Angeles:20281228T200000
DTSTAMP:20260425T182627
CREATED:20260424T201147Z
LAST-MODIFIED:20260424T201147Z
UID:10000087-1861639200-1861646400@rootedvalley.com
SUMMARY:Downtown Yakima Run Club
DESCRIPTION:Downtown Yakima Run Club meets every other Thursday at 6pm
URL:https://rootedvalley.com/event/downtown-yakima-run-club/2028-12-28/
ATTACH;FMTTYPE=image/png:https://rootedvalley.com/wp-content/uploads/2026/04/Orange-Modern-Summer-Trail-Run-Event-Instagram-Post-16-x-9-in.png
ORGANIZER;CN="Rooted Yakima Valley":MAILTO:info@rootedvalley.com
END:VEVENT
BEGIN:VEVENT
DTSTART;TZID=America/Los_Angeles:20290111T180000
DTEND;TZID=America/Los_Angeles:20290111T200000
DTSTAMP:20260425T182627
CREATED:20260424T201147Z
LAST-MODIFIED:20260424T201147Z
UID:10000088-1862848800-1862856000@rootedvalley.com
SUMMARY:Downtown Yakima Run Club
DESCRIPTION:Downtown Yakima Run Club meets every other Thursday at 6pm
URL:https://rootedvalley.com/event/downtown-yakima-run-club/2029-01-11/
ATTACH;FMTTYPE=image/png:https://rootedvalley.com/wp-content/uploads/2026/04/Orange-Modern-Summer-Trail-Run-Event-Instagram-Post-16-x-9-in.png
ORGANIZER;CN="Rooted Yakima Valley":MAILTO:info@rootedvalley.com
END:VEVENT
BEGIN:VEVENT
DTSTART;TZID=America/Los_Angeles:20290125T180000
DTEND;TZID=America/Los_Angeles:20290125T200000
DTSTAMP:20260425T182627
CREATED:20260424T201147Z
LAST-MODIFIED:20260424T201147Z
UID:10000089-1864058400-1864065600@rootedvalley.com
SUMMARY:Downtown Yakima Run Club
DESCRIPTION:Downtown Yakima Run Club meets every other Thursday at 6pm
URL:https://rootedvalley.com/event/downtown-yakima-run-club/2029-01-25/
ATTACH;FMTTYPE=image/png:https://rootedvalley.com/wp-content/uploads/2026/04/Orange-Modern-Summer-Trail-Run-Event-Instagram-Post-16-x-9-in.png
ORGANIZER;CN="Rooted Yakima Valley":MAILTO:info@rootedvalley.com
END:VEVENT
BEGIN:VEVENT
DTSTART;TZID=America/Los_Angeles:20290208T180000
DTEND;TZID=America/Los_Angeles:20290208T200000
DTSTAMP:20260425T182627
CREATED:20260424T201147Z
LAST-MODIFIED:20260424T201147Z
UID:10000090-1865268000-1865275200@rootedvalley.com
SUMMARY:Downtown Yakima Run Club
DESCRIPTION:Downtown Yakima Run Club meets every other Thursday at 6pm
URL:https://rootedvalley.com/event/downtown-yakima-run-club/2029-02-08/
ATTACH;FMTTYPE=image/png:https://rootedvalley.com/wp-content/uploads/2026/04/Orange-Modern-Summer-Trail-Run-Event-Instagram-Post-16-x-9-in.png
ORGANIZER;CN="Rooted Yakima Valley":MAILTO:info@rootedvalley.com
END:VEVENT
BEGIN:VEVENT
DTSTART;TZID=America/Los_Angeles:20290222T180000
DTEND;TZID=America/Los_Angeles:20290222T200000
DTSTAMP:20260425T182627
CREATED:20260424T201147Z
LAST-MODIFIED:20260424T201147Z
UID:10000091-1866477600-1866484800@rootedvalley.com
SUMMARY:Downtown Yakima Run Club
DESCRIPTION:Downtown Yakima Run Club meets every other Thursday at 6pm
URL:https://rootedvalley.com/event/downtown-yakima-run-club/2029-02-22/
ATTACH;FMTTYPE=image/png:https://rootedvalley.com/wp-content/uploads/2026/04/Orange-Modern-Summer-Trail-Run-Event-Instagram-Post-16-x-9-in.png
ORGANIZER;CN="Rooted Yakima Valley":MAILTO:info@rootedvalley.com
END:VEVENT
BEGIN:VEVENT
DTSTART;TZID=America/Los_Angeles:20290308T180000
DTEND;TZID=America/Los_Angeles:20290308T200000
DTSTAMP:20260425T182627
CREATED:20260424T201147Z
LAST-MODIFIED:20260424T201147Z
UID:10000092-1867687200-1867694400@rootedvalley.com
SUMMARY:Downtown Yakima Run Club
DESCRIPTION:Downtown Yakima Run Club meets every other Thursday at 6pm
URL:https://rootedvalley.com/event/downtown-yakima-run-club/2029-03-08/
ATTACH;FMTTYPE=image/png:https://rootedvalley.com/wp-content/uploads/2026/04/Orange-Modern-Summer-Trail-Run-Event-Instagram-Post-16-x-9-in.png
ORGANIZER;CN="Rooted Yakima Valley":MAILTO:info@rootedvalley.com
END:VEVENT
BEGIN:VEVENT
DTSTART;TZID=America/Los_Angeles:20290322T180000
DTEND;TZID=America/Los_Angeles:20290322T200000
DTSTAMP:20260425T182627
CREATED:20260424T201147Z
LAST-MODIFIED:20260424T201147Z
UID:10000093-1868896800-1868904000@rootedvalley.com
SUMMARY:Downtown Yakima Run Club
DESCRIPTION:Downtown Yakima Run Club meets every other Thursday at 6pm
URL:https://rootedvalley.com/event/downtown-yakima-run-club/2029-03-22/
ATTACH;FMTTYPE=image/png:https://rootedvalley.com/wp-content/uploads/2026/04/Orange-Modern-Summer-Trail-Run-Event-Instagram-Post-16-x-9-in.png
ORGANIZER;CN="Rooted Yakima Valley":MAILTO:info@rootedvalley.com
END:VEVENT
BEGIN:VEVENT
DTSTART;TZID=America/Los_Angeles:20290405T180000
DTEND;TZID=America/Los_Angeles:20290405T200000
DTSTAMP:20260425T182627
CREATED:20260424T201147Z
LAST-MODIFIED:20260424T201147Z
UID:10000094-1870106400-1870113600@rootedvalley.com
SUMMARY:Downtown Yakima Run Club
DESCRIPTION:Downtown Yakima Run Club meets every other Thursday at 6pm
URL:https://rootedvalley.com/event/downtown-yakima-run-club/2029-04-05/
ATTACH;FMTTYPE=image/png:https://rootedvalley.com/wp-content/uploads/2026/04/Orange-Modern-Summer-Trail-Run-Event-Instagram-Post-16-x-9-in.png
ORGANIZER;CN="Rooted Yakima Valley":MAILTO:info@rootedvalley.com
END:VEVENT
BEGIN:VEVENT
DTSTART;TZID=America/Los_Angeles:20290419T180000
DTEND;TZID=America/Los_Angeles:20290419T200000
DTSTAMP:20260425T182627
CREATED:20260424T201147Z
LAST-MODIFIED:20260424T201147Z
UID:10000095-1871316000-1871323200@rootedvalley.com
SUMMARY:Downtown Yakima Run Club
DESCRIPTION:Downtown Yakima Run Club meets every other Thursday at 6pm
URL:https://rootedvalley.com/event/downtown-yakima-run-club/2029-04-19/
ATTACH;FMTTYPE=image/png:https://rootedvalley.com/wp-content/uploads/2026/04/Orange-Modern-Summer-Trail-Run-Event-Instagram-Post-16-x-9-in.png
ORGANIZER;CN="Rooted Yakima Valley":MAILTO:info@rootedvalley.com
END:VEVENT
BEGIN:VEVENT
DTSTART;TZID=America/Los_Angeles:20290503T180000
DTEND;TZID=America/Los_Angeles:20290503T200000
DTSTAMP:20260425T182627
CREATED:20260424T201147Z
LAST-MODIFIED:20260424T201147Z
UID:10000096-1872525600-1872532800@rootedvalley.com
SUMMARY:Downtown Yakima Run Club
DESCRIPTION:Downtown Yakima Run Club meets every other Thursday at 6pm
URL:https://rootedvalley.com/event/downtown-yakima-run-club/2029-05-03/
ATTACH;FMTTYPE=image/png:https://rootedvalley.com/wp-content/uploads/2026/04/Orange-Modern-Summer-Trail-Run-Event-Instagram-Post-16-x-9-in.png
ORGANIZER;CN="Rooted Yakima Valley":MAILTO:info@rootedvalley.com
END:VEVENT
BEGIN:VEVENT
DTSTART;TZID=America/Los_Angeles:20290517T180000
DTEND;TZID=America/Los_Angeles:20290517T200000
DTSTAMP:20260425T182627
CREATED:20260424T201147Z
LAST-MODIFIED:20260424T201147Z
UID:10000097-1873735200-1873742400@rootedvalley.com
SUMMARY:Downtown Yakima Run Club
DESCRIPTION:Downtown Yakima Run Club meets every other Thursday at 6pm
URL:https://rootedvalley.com/event/downtown-yakima-run-club/2029-05-17/
ATTACH;FMTTYPE=image/png:https://rootedvalley.com/wp-content/uploads/2026/04/Orange-Modern-Summer-Trail-Run-Event-Instagram-Post-16-x-9-in.png
ORGANIZER;CN="Rooted Yakima Valley":MAILTO:info@rootedvalley.com
END:VEVENT
BEGIN:VEVENT
DTSTART;TZID=America/Los_Angeles:20290531T180000
DTEND;TZID=America/Los_Angeles:20290531T200000
DTSTAMP:20260425T182627
CREATED:20260424T201147Z
LAST-MODIFIED:20260424T201147Z
UID:10000098-1874944800-1874952000@rootedvalley.com
SUMMARY:Downtown Yakima Run Club
DESCRIPTION:Downtown Yakima Run Club meets every other Thursday at 6pm
URL:https://rootedvalley.com/event/downtown-yakima-run-club/2029-05-31/
ATTACH;FMTTYPE=image/png:https://rootedvalley.com/wp-content/uploads/2026/04/Orange-Modern-Summer-Trail-Run-Event-Instagram-Post-16-x-9-in.png
ORGANIZER;CN="Rooted Yakima Valley":MAILTO:info@rootedvalley.com
END:VEVENT
END:VCALENDAR