BEGIN:VCALENDAR
VERSION:2.0
PRODID:-//Rooted - ECPv6.15.20//NONSGML v1.0//EN
CALSCALE:GREGORIAN
METHOD:PUBLISH
X-ORIGINAL-URL:https://rootedvalley.com
X-WR-CALDESC:Events for Rooted
REFRESH-INTERVAL;VALUE=DURATION:PT1H
X-Robots-Tag:noindex
X-PUBLISHED-TTL:PT1H
BEGIN:VTIMEZONE
TZID:America/Los_Angeles
BEGIN:DAYLIGHT
TZOFFSETFROM:-0800
TZOFFSETTO:-0700
TZNAME:PDT
DTSTART:20260308T100000
END:DAYLIGHT
BEGIN:STANDARD
TZOFFSETFROM:-0700
TZOFFSETTO:-0800
TZNAME:PST
DTSTART:20261101T090000
END:STANDARD
BEGIN:DAYLIGHT
TZOFFSETFROM:-0800
TZOFFSETTO:-0700
TZNAME:PDT
DTSTART:20270314T100000
END:DAYLIGHT
BEGIN:STANDARD
TZOFFSETFROM:-0700
TZOFFSETTO:-0800
TZNAME:PST
DTSTART:20271107T090000
END:STANDARD
BEGIN:DAYLIGHT
TZOFFSETFROM:-0800
TZOFFSETTO:-0700
TZNAME:PDT
DTSTART:20280312T100000
END:DAYLIGHT
BEGIN:STANDARD
TZOFFSETFROM:-0700
TZOFFSETTO:-0800
TZNAME:PST
DTSTART:20281105T090000
END:STANDARD
BEGIN:DAYLIGHT
TZOFFSETFROM:-0800
TZOFFSETTO:-0700
TZNAME:PDT
DTSTART:20290311T100000
END:DAYLIGHT
BEGIN:STANDARD
TZOFFSETFROM:-0700
TZOFFSETTO:-0800
TZNAME:PST
DTSTART:20291104T090000
END:STANDARD
END:VTIMEZONE
BEGIN:VEVENT
DTSTART;TZID=America/Los_Angeles:20270715T180000
DTEND;TZID=America/Los_Angeles:20270715T200000
DTSTAMP:20260425T143311
CREATED:20260424T201147Z
LAST-MODIFIED:20260424T201147Z
UID:10000049-1815674400-1815681600@rootedvalley.com
SUMMARY:Downtown Yakima Run Club
DESCRIPTION:Downtown Yakima Run Club meets every other Thursday at 6pm
URL:https://rootedvalley.com/event/downtown-yakima-run-club/2027-07-15/
ATTACH;FMTTYPE=image/png:https://rootedvalley.com/wp-content/uploads/2026/04/Orange-Modern-Summer-Trail-Run-Event-Instagram-Post-16-x-9-in.png
ORGANIZER;CN="Rooted Yakima Valley":MAILTO:info@rootedvalley.com
END:VEVENT
BEGIN:VEVENT
DTSTART;TZID=America/Los_Angeles:20270729T180000
DTEND;TZID=America/Los_Angeles:20270729T200000
DTSTAMP:20260425T143311
CREATED:20260424T201147Z
LAST-MODIFIED:20260424T201147Z
UID:10000050-1816884000-1816891200@rootedvalley.com
SUMMARY:Downtown Yakima Run Club
DESCRIPTION:Downtown Yakima Run Club meets every other Thursday at 6pm
URL:https://rootedvalley.com/event/downtown-yakima-run-club/2027-07-29/
ATTACH;FMTTYPE=image/png:https://rootedvalley.com/wp-content/uploads/2026/04/Orange-Modern-Summer-Trail-Run-Event-Instagram-Post-16-x-9-in.png
ORGANIZER;CN="Rooted Yakima Valley":MAILTO:info@rootedvalley.com
END:VEVENT
BEGIN:VEVENT
DTSTART;TZID=America/Los_Angeles:20270812T180000
DTEND;TZID=America/Los_Angeles:20270812T200000
DTSTAMP:20260425T143311
CREATED:20260424T201147Z
LAST-MODIFIED:20260424T201147Z
UID:10000051-1818093600-1818100800@rootedvalley.com
SUMMARY:Downtown Yakima Run Club
DESCRIPTION:Downtown Yakima Run Club meets every other Thursday at 6pm
URL:https://rootedvalley.com/event/downtown-yakima-run-club/2027-08-12/
ATTACH;FMTTYPE=image/png:https://rootedvalley.com/wp-content/uploads/2026/04/Orange-Modern-Summer-Trail-Run-Event-Instagram-Post-16-x-9-in.png
ORGANIZER;CN="Rooted Yakima Valley":MAILTO:info@rootedvalley.com
END:VEVENT
BEGIN:VEVENT
DTSTART;TZID=America/Los_Angeles:20270826T180000
DTEND;TZID=America/Los_Angeles:20270826T200000
DTSTAMP:20260425T143311
CREATED:20260424T201147Z
LAST-MODIFIED:20260424T201147Z
UID:10000052-1819303200-1819310400@rootedvalley.com
SUMMARY:Downtown Yakima Run Club
DESCRIPTION:Downtown Yakima Run Club meets every other Thursday at 6pm
URL:https://rootedvalley.com/event/downtown-yakima-run-club/2027-08-26/
ATTACH;FMTTYPE=image/png:https://rootedvalley.com/wp-content/uploads/2026/04/Orange-Modern-Summer-Trail-Run-Event-Instagram-Post-16-x-9-in.png
ORGANIZER;CN="Rooted Yakima Valley":MAILTO:info@rootedvalley.com
END:VEVENT
BEGIN:VEVENT
DTSTART;TZID=America/Los_Angeles:20270909T180000
DTEND;TZID=America/Los_Angeles:20270909T200000
DTSTAMP:20260425T143311
CREATED:20260424T201147Z
LAST-MODIFIED:20260424T201147Z
UID:10000053-1820512800-1820520000@rootedvalley.com
SUMMARY:Downtown Yakima Run Club
DESCRIPTION:Downtown Yakima Run Club meets every other Thursday at 6pm
URL:https://rootedvalley.com/event/downtown-yakima-run-club/2027-09-09/
ATTACH;FMTTYPE=image/png:https://rootedvalley.com/wp-content/uploads/2026/04/Orange-Modern-Summer-Trail-Run-Event-Instagram-Post-16-x-9-in.png
ORGANIZER;CN="Rooted Yakima Valley":MAILTO:info@rootedvalley.com
END:VEVENT
BEGIN:VEVENT
DTSTART;TZID=America/Los_Angeles:20270923T180000
DTEND;TZID=America/Los_Angeles:20270923T200000
DTSTAMP:20260425T143311
CREATED:20260424T201147Z
LAST-MODIFIED:20260424T201147Z
UID:10000054-1821722400-1821729600@rootedvalley.com
SUMMARY:Downtown Yakima Run Club
DESCRIPTION:Downtown Yakima Run Club meets every other Thursday at 6pm
URL:https://rootedvalley.com/event/downtown-yakima-run-club/2027-09-23/
ATTACH;FMTTYPE=image/png:https://rootedvalley.com/wp-content/uploads/2026/04/Orange-Modern-Summer-Trail-Run-Event-Instagram-Post-16-x-9-in.png
ORGANIZER;CN="Rooted Yakima Valley":MAILTO:info@rootedvalley.com
END:VEVENT
BEGIN:VEVENT
DTSTART;TZID=America/Los_Angeles:20271007T180000
DTEND;TZID=America/Los_Angeles:20271007T200000
DTSTAMP:20260425T143311
CREATED:20260424T201147Z
LAST-MODIFIED:20260424T201147Z
UID:10000055-1822932000-1822939200@rootedvalley.com
SUMMARY:Downtown Yakima Run Club
DESCRIPTION:Downtown Yakima Run Club meets every other Thursday at 6pm
URL:https://rootedvalley.com/event/downtown-yakima-run-club/2027-10-07/
ATTACH;FMTTYPE=image/png:https://rootedvalley.com/wp-content/uploads/2026/04/Orange-Modern-Summer-Trail-Run-Event-Instagram-Post-16-x-9-in.png
ORGANIZER;CN="Rooted Yakima Valley":MAILTO:info@rootedvalley.com
END:VEVENT
BEGIN:VEVENT
DTSTART;TZID=America/Los_Angeles:20271021T180000
DTEND;TZID=America/Los_Angeles:20271021T200000
DTSTAMP:20260425T143311
CREATED:20260424T201147Z
LAST-MODIFIED:20260424T201147Z
UID:10000056-1824141600-1824148800@rootedvalley.com
SUMMARY:Downtown Yakima Run Club
DESCRIPTION:Downtown Yakima Run Club meets every other Thursday at 6pm
URL:https://rootedvalley.com/event/downtown-yakima-run-club/2027-10-21/
ATTACH;FMTTYPE=image/png:https://rootedvalley.com/wp-content/uploads/2026/04/Orange-Modern-Summer-Trail-Run-Event-Instagram-Post-16-x-9-in.png
ORGANIZER;CN="Rooted Yakima Valley":MAILTO:info@rootedvalley.com
END:VEVENT
BEGIN:VEVENT
DTSTART;TZID=America/Los_Angeles:20271104T180000
DTEND;TZID=America/Los_Angeles:20271104T200000
DTSTAMP:20260425T143311
CREATED:20260424T201147Z
LAST-MODIFIED:20260424T201147Z
UID:10000057-1825351200-1825358400@rootedvalley.com
SUMMARY:Downtown Yakima Run Club
DESCRIPTION:Downtown Yakima Run Club meets every other Thursday at 6pm
URL:https://rootedvalley.com/event/downtown-yakima-run-club/2027-11-04/
ATTACH;FMTTYPE=image/png:https://rootedvalley.com/wp-content/uploads/2026/04/Orange-Modern-Summer-Trail-Run-Event-Instagram-Post-16-x-9-in.png
ORGANIZER;CN="Rooted Yakima Valley":MAILTO:info@rootedvalley.com
END:VEVENT
BEGIN:VEVENT
DTSTART;TZID=America/Los_Angeles:20271118T180000
DTEND;TZID=America/Los_Angeles:20271118T200000
DTSTAMP:20260425T143311
CREATED:20260424T201147Z
LAST-MODIFIED:20260424T201147Z
UID:10000058-1826560800-1826568000@rootedvalley.com
SUMMARY:Downtown Yakima Run Club
DESCRIPTION:Downtown Yakima Run Club meets every other Thursday at 6pm
URL:https://rootedvalley.com/event/downtown-yakima-run-club/2027-11-18/
ATTACH;FMTTYPE=image/png:https://rootedvalley.com/wp-content/uploads/2026/04/Orange-Modern-Summer-Trail-Run-Event-Instagram-Post-16-x-9-in.png
ORGANIZER;CN="Rooted Yakima Valley":MAILTO:info@rootedvalley.com
END:VEVENT
BEGIN:VEVENT
DTSTART;TZID=America/Los_Angeles:20271202T180000
DTEND;TZID=America/Los_Angeles:20271202T200000
DTSTAMP:20260425T143311
CREATED:20260424T201147Z
LAST-MODIFIED:20260424T201147Z
UID:10000059-1827770400-1827777600@rootedvalley.com
SUMMARY:Downtown Yakima Run Club
DESCRIPTION:Downtown Yakima Run Club meets every other Thursday at 6pm
URL:https://rootedvalley.com/event/downtown-yakima-run-club/2027-12-02/
ATTACH;FMTTYPE=image/png:https://rootedvalley.com/wp-content/uploads/2026/04/Orange-Modern-Summer-Trail-Run-Event-Instagram-Post-16-x-9-in.png
ORGANIZER;CN="Rooted Yakima Valley":MAILTO:info@rootedvalley.com
END:VEVENT
BEGIN:VEVENT
DTSTART;TZID=America/Los_Angeles:20271216T180000
DTEND;TZID=America/Los_Angeles:20271216T200000
DTSTAMP:20260425T143311
CREATED:20260424T201147Z
LAST-MODIFIED:20260424T201147Z
UID:10000060-1828980000-1828987200@rootedvalley.com
SUMMARY:Downtown Yakima Run Club
DESCRIPTION:Downtown Yakima Run Club meets every other Thursday at 6pm
URL:https://rootedvalley.com/event/downtown-yakima-run-club/2027-12-16/
ATTACH;FMTTYPE=image/png:https://rootedvalley.com/wp-content/uploads/2026/04/Orange-Modern-Summer-Trail-Run-Event-Instagram-Post-16-x-9-in.png
ORGANIZER;CN="Rooted Yakima Valley":MAILTO:info@rootedvalley.com
END:VEVENT
BEGIN:VEVENT
DTSTART;TZID=America/Los_Angeles:20271230T180000
DTEND;TZID=America/Los_Angeles:20271230T200000
DTSTAMP:20260425T143311
CREATED:20260424T201147Z
LAST-MODIFIED:20260424T201147Z
UID:10000061-1830189600-1830196800@rootedvalley.com
SUMMARY:Downtown Yakima Run Club
DESCRIPTION:Downtown Yakima Run Club meets every other Thursday at 6pm
URL:https://rootedvalley.com/event/downtown-yakima-run-club/2027-12-30/
ATTACH;FMTTYPE=image/png:https://rootedvalley.com/wp-content/uploads/2026/04/Orange-Modern-Summer-Trail-Run-Event-Instagram-Post-16-x-9-in.png
ORGANIZER;CN="Rooted Yakima Valley":MAILTO:info@rootedvalley.com
END:VEVENT
BEGIN:VEVENT
DTSTART;TZID=America/Los_Angeles:20280113T180000
DTEND;TZID=America/Los_Angeles:20280113T200000
DTSTAMP:20260425T143311
CREATED:20260424T201147Z
LAST-MODIFIED:20260424T201147Z
UID:10000062-1831399200-1831406400@rootedvalley.com
SUMMARY:Downtown Yakima Run Club
DESCRIPTION:Downtown Yakima Run Club meets every other Thursday at 6pm
URL:https://rootedvalley.com/event/downtown-yakima-run-club/2028-01-13/
ATTACH;FMTTYPE=image/png:https://rootedvalley.com/wp-content/uploads/2026/04/Orange-Modern-Summer-Trail-Run-Event-Instagram-Post-16-x-9-in.png
ORGANIZER;CN="Rooted Yakima Valley":MAILTO:info@rootedvalley.com
END:VEVENT
BEGIN:VEVENT
DTSTART;TZID=America/Los_Angeles:20280127T180000
DTEND;TZID=America/Los_Angeles:20280127T200000
DTSTAMP:20260425T143311
CREATED:20260424T201147Z
LAST-MODIFIED:20260424T201147Z
UID:10000063-1832608800-1832616000@rootedvalley.com
SUMMARY:Downtown Yakima Run Club
DESCRIPTION:Downtown Yakima Run Club meets every other Thursday at 6pm
URL:https://rootedvalley.com/event/downtown-yakima-run-club/2028-01-27/
ATTACH;FMTTYPE=image/png:https://rootedvalley.com/wp-content/uploads/2026/04/Orange-Modern-Summer-Trail-Run-Event-Instagram-Post-16-x-9-in.png
ORGANIZER;CN="Rooted Yakima Valley":MAILTO:info@rootedvalley.com
END:VEVENT
BEGIN:VEVENT
DTSTART;TZID=America/Los_Angeles:20280210T180000
DTEND;TZID=America/Los_Angeles:20280210T200000
DTSTAMP:20260425T143311
CREATED:20260424T201147Z
LAST-MODIFIED:20260424T201147Z
UID:10000064-1833818400-1833825600@rootedvalley.com
SUMMARY:Downtown Yakima Run Club
DESCRIPTION:Downtown Yakima Run Club meets every other Thursday at 6pm
URL:https://rootedvalley.com/event/downtown-yakima-run-club/2028-02-10/
ATTACH;FMTTYPE=image/png:https://rootedvalley.com/wp-content/uploads/2026/04/Orange-Modern-Summer-Trail-Run-Event-Instagram-Post-16-x-9-in.png
ORGANIZER;CN="Rooted Yakima Valley":MAILTO:info@rootedvalley.com
END:VEVENT
BEGIN:VEVENT
DTSTART;TZID=America/Los_Angeles:20280224T180000
DTEND;TZID=America/Los_Angeles:20280224T200000
DTSTAMP:20260425T143311
CREATED:20260424T201147Z
LAST-MODIFIED:20260424T201147Z
UID:10000065-1835028000-1835035200@rootedvalley.com
SUMMARY:Downtown Yakima Run Club
DESCRIPTION:Downtown Yakima Run Club meets every other Thursday at 6pm
URL:https://rootedvalley.com/event/downtown-yakima-run-club/2028-02-24/
ATTACH;FMTTYPE=image/png:https://rootedvalley.com/wp-content/uploads/2026/04/Orange-Modern-Summer-Trail-Run-Event-Instagram-Post-16-x-9-in.png
ORGANIZER;CN="Rooted Yakima Valley":MAILTO:info@rootedvalley.com
END:VEVENT
BEGIN:VEVENT
DTSTART;TZID=America/Los_Angeles:20280309T180000
DTEND;TZID=America/Los_Angeles:20280309T200000
DTSTAMP:20260425T143311
CREATED:20260424T201147Z
LAST-MODIFIED:20260424T201147Z
UID:10000066-1836237600-1836244800@rootedvalley.com
SUMMARY:Downtown Yakima Run Club
DESCRIPTION:Downtown Yakima Run Club meets every other Thursday at 6pm
URL:https://rootedvalley.com/event/downtown-yakima-run-club/2028-03-09/
ATTACH;FMTTYPE=image/png:https://rootedvalley.com/wp-content/uploads/2026/04/Orange-Modern-Summer-Trail-Run-Event-Instagram-Post-16-x-9-in.png
ORGANIZER;CN="Rooted Yakima Valley":MAILTO:info@rootedvalley.com
END:VEVENT
BEGIN:VEVENT
DTSTART;TZID=America/Los_Angeles:20280323T180000
DTEND;TZID=America/Los_Angeles:20280323T200000
DTSTAMP:20260425T143311
CREATED:20260424T201147Z
LAST-MODIFIED:20260424T201147Z
UID:10000067-1837447200-1837454400@rootedvalley.com
SUMMARY:Downtown Yakima Run Club
DESCRIPTION:Downtown Yakima Run Club meets every other Thursday at 6pm
URL:https://rootedvalley.com/event/downtown-yakima-run-club/2028-03-23/
ATTACH;FMTTYPE=image/png:https://rootedvalley.com/wp-content/uploads/2026/04/Orange-Modern-Summer-Trail-Run-Event-Instagram-Post-16-x-9-in.png
ORGANIZER;CN="Rooted Yakima Valley":MAILTO:info@rootedvalley.com
END:VEVENT
BEGIN:VEVENT
DTSTART;TZID=America/Los_Angeles:20280406T180000
DTEND;TZID=America/Los_Angeles:20280406T200000
DTSTAMP:20260425T143311
CREATED:20260424T201147Z
LAST-MODIFIED:20260424T201147Z
UID:10000068-1838656800-1838664000@rootedvalley.com
SUMMARY:Downtown Yakima Run Club
DESCRIPTION:Downtown Yakima Run Club meets every other Thursday at 6pm
URL:https://rootedvalley.com/event/downtown-yakima-run-club/2028-04-06/
ATTACH;FMTTYPE=image/png:https://rootedvalley.com/wp-content/uploads/2026/04/Orange-Modern-Summer-Trail-Run-Event-Instagram-Post-16-x-9-in.png
ORGANIZER;CN="Rooted Yakima Valley":MAILTO:info@rootedvalley.com
END:VEVENT
BEGIN:VEVENT
DTSTART;TZID=America/Los_Angeles:20280420T180000
DTEND;TZID=America/Los_Angeles:20280420T200000
DTSTAMP:20260425T143311
CREATED:20260424T201147Z
LAST-MODIFIED:20260424T201147Z
UID:10000069-1839866400-1839873600@rootedvalley.com
SUMMARY:Downtown Yakima Run Club
DESCRIPTION:Downtown Yakima Run Club meets every other Thursday at 6pm
URL:https://rootedvalley.com/event/downtown-yakima-run-club/2028-04-20/
ATTACH;FMTTYPE=image/png:https://rootedvalley.com/wp-content/uploads/2026/04/Orange-Modern-Summer-Trail-Run-Event-Instagram-Post-16-x-9-in.png
ORGANIZER;CN="Rooted Yakima Valley":MAILTO:info@rootedvalley.com
END:VEVENT
BEGIN:VEVENT
DTSTART;TZID=America/Los_Angeles:20280504T180000
DTEND;TZID=America/Los_Angeles:20280504T200000
DTSTAMP:20260425T143311
CREATED:20260424T201147Z
LAST-MODIFIED:20260424T201147Z
UID:10000070-1841076000-1841083200@rootedvalley.com
SUMMARY:Downtown Yakima Run Club
DESCRIPTION:Downtown Yakima Run Club meets every other Thursday at 6pm
URL:https://rootedvalley.com/event/downtown-yakima-run-club/2028-05-04/
ATTACH;FMTTYPE=image/png:https://rootedvalley.com/wp-content/uploads/2026/04/Orange-Modern-Summer-Trail-Run-Event-Instagram-Post-16-x-9-in.png
ORGANIZER;CN="Rooted Yakima Valley":MAILTO:info@rootedvalley.com
END:VEVENT
BEGIN:VEVENT
DTSTART;TZID=America/Los_Angeles:20280518T180000
DTEND;TZID=America/Los_Angeles:20280518T200000
DTSTAMP:20260425T143311
CREATED:20260424T201147Z
LAST-MODIFIED:20260424T201147Z
UID:10000071-1842285600-1842292800@rootedvalley.com
SUMMARY:Downtown Yakima Run Club
DESCRIPTION:Downtown Yakima Run Club meets every other Thursday at 6pm
URL:https://rootedvalley.com/event/downtown-yakima-run-club/2028-05-18/
ATTACH;FMTTYPE=image/png:https://rootedvalley.com/wp-content/uploads/2026/04/Orange-Modern-Summer-Trail-Run-Event-Instagram-Post-16-x-9-in.png
ORGANIZER;CN="Rooted Yakima Valley":MAILTO:info@rootedvalley.com
END:VEVENT
BEGIN:VEVENT
DTSTART;TZID=America/Los_Angeles:20280601T180000
DTEND;TZID=America/Los_Angeles:20280601T200000
DTSTAMP:20260425T143311
CREATED:20260424T201147Z
LAST-MODIFIED:20260424T201147Z
UID:10000072-1843495200-1843502400@rootedvalley.com
SUMMARY:Downtown Yakima Run Club
DESCRIPTION:Downtown Yakima Run Club meets every other Thursday at 6pm
URL:https://rootedvalley.com/event/downtown-yakima-run-club/2028-06-01/
ATTACH;FMTTYPE=image/png:https://rootedvalley.com/wp-content/uploads/2026/04/Orange-Modern-Summer-Trail-Run-Event-Instagram-Post-16-x-9-in.png
ORGANIZER;CN="Rooted Yakima Valley":MAILTO:info@rootedvalley.com
END:VEVENT
BEGIN:VEVENT
DTSTART;TZID=America/Los_Angeles:20280615T180000
DTEND;TZID=America/Los_Angeles:20280615T200000
DTSTAMP:20260425T143311
CREATED:20260424T201147Z
LAST-MODIFIED:20260424T201147Z
UID:10000073-1844704800-1844712000@rootedvalley.com
SUMMARY:Downtown Yakima Run Club
DESCRIPTION:Downtown Yakima Run Club meets every other Thursday at 6pm
URL:https://rootedvalley.com/event/downtown-yakima-run-club/2028-06-15/
ATTACH;FMTTYPE=image/png:https://rootedvalley.com/wp-content/uploads/2026/04/Orange-Modern-Summer-Trail-Run-Event-Instagram-Post-16-x-9-in.png
ORGANIZER;CN="Rooted Yakima Valley":MAILTO:info@rootedvalley.com
END:VEVENT
BEGIN:VEVENT
DTSTART;TZID=America/Los_Angeles:20280629T180000
DTEND;TZID=America/Los_Angeles:20280629T200000
DTSTAMP:20260425T143311
CREATED:20260424T201147Z
LAST-MODIFIED:20260424T201147Z
UID:10000074-1845914400-1845921600@rootedvalley.com
SUMMARY:Downtown Yakima Run Club
DESCRIPTION:Downtown Yakima Run Club meets every other Thursday at 6pm
URL:https://rootedvalley.com/event/downtown-yakima-run-club/2028-06-29/
ATTACH;FMTTYPE=image/png:https://rootedvalley.com/wp-content/uploads/2026/04/Orange-Modern-Summer-Trail-Run-Event-Instagram-Post-16-x-9-in.png
ORGANIZER;CN="Rooted Yakima Valley":MAILTO:info@rootedvalley.com
END:VEVENT
BEGIN:VEVENT
DTSTART;TZID=America/Los_Angeles:20280713T180000
DTEND;TZID=America/Los_Angeles:20280713T200000
DTSTAMP:20260425T143311
CREATED:20260424T201147Z
LAST-MODIFIED:20260424T201147Z
UID:10000075-1847124000-1847131200@rootedvalley.com
SUMMARY:Downtown Yakima Run Club
DESCRIPTION:Downtown Yakima Run Club meets every other Thursday at 6pm
URL:https://rootedvalley.com/event/downtown-yakima-run-club/2028-07-13/
ATTACH;FMTTYPE=image/png:https://rootedvalley.com/wp-content/uploads/2026/04/Orange-Modern-Summer-Trail-Run-Event-Instagram-Post-16-x-9-in.png
ORGANIZER;CN="Rooted Yakima Valley":MAILTO:info@rootedvalley.com
END:VEVENT
BEGIN:VEVENT
DTSTART;TZID=America/Los_Angeles:20280727T180000
DTEND;TZID=America/Los_Angeles:20280727T200000
DTSTAMP:20260425T143311
CREATED:20260424T201147Z
LAST-MODIFIED:20260424T201147Z
UID:10000076-1848333600-1848340800@rootedvalley.com
SUMMARY:Downtown Yakima Run Club
DESCRIPTION:Downtown Yakima Run Club meets every other Thursday at 6pm
URL:https://rootedvalley.com/event/downtown-yakima-run-club/2028-07-27/
ATTACH;FMTTYPE=image/png:https://rootedvalley.com/wp-content/uploads/2026/04/Orange-Modern-Summer-Trail-Run-Event-Instagram-Post-16-x-9-in.png
ORGANIZER;CN="Rooted Yakima Valley":MAILTO:info@rootedvalley.com
END:VEVENT
BEGIN:VEVENT
DTSTART;TZID=America/Los_Angeles:20280810T180000
DTEND;TZID=America/Los_Angeles:20280810T200000
DTSTAMP:20260425T143311
CREATED:20260424T201147Z
LAST-MODIFIED:20260424T201147Z
UID:10000077-1849543200-1849550400@rootedvalley.com
SUMMARY:Downtown Yakima Run Club
DESCRIPTION:Downtown Yakima Run Club meets every other Thursday at 6pm
URL:https://rootedvalley.com/event/downtown-yakima-run-club/2028-08-10/
ATTACH;FMTTYPE=image/png:https://rootedvalley.com/wp-content/uploads/2026/04/Orange-Modern-Summer-Trail-Run-Event-Instagram-Post-16-x-9-in.png
ORGANIZER;CN="Rooted Yakima Valley":MAILTO:info@rootedvalley.com
END:VEVENT
BEGIN:VEVENT
DTSTART;TZID=America/Los_Angeles:20280824T180000
DTEND;TZID=America/Los_Angeles:20280824T200000
DTSTAMP:20260425T143311
CREATED:20260424T201147Z
LAST-MODIFIED:20260424T201147Z
UID:10000078-1850752800-1850760000@rootedvalley.com
SUMMARY:Downtown Yakima Run Club
DESCRIPTION:Downtown Yakima Run Club meets every other Thursday at 6pm
URL:https://rootedvalley.com/event/downtown-yakima-run-club/2028-08-24/
ATTACH;FMTTYPE=image/png:https://rootedvalley.com/wp-content/uploads/2026/04/Orange-Modern-Summer-Trail-Run-Event-Instagram-Post-16-x-9-in.png
ORGANIZER;CN="Rooted Yakima Valley":MAILTO:info@rootedvalley.com
END:VEVENT
END:VCALENDAR