BEGIN:VCALENDAR
VERSION:2.0
PRODID:-//Rooted - ECPv6.15.20//NONSGML v1.0//EN
CALSCALE:GREGORIAN
METHOD:PUBLISH
X-WR-CALNAME:Rooted
X-ORIGINAL-URL:https://rootedvalley.com
X-WR-CALDESC:Events for Rooted
REFRESH-INTERVAL;VALUE=DURATION:PT1H
X-Robots-Tag:noindex
X-PUBLISHED-TTL:PT1H
BEGIN:VTIMEZONE
TZID:America/Los_Angeles
BEGIN:DAYLIGHT
TZOFFSETFROM:-0800
TZOFFSETTO:-0700
TZNAME:PDT
DTSTART:20250309T100000
END:DAYLIGHT
BEGIN:STANDARD
TZOFFSETFROM:-0700
TZOFFSETTO:-0800
TZNAME:PST
DTSTART:20251102T090000
END:STANDARD
BEGIN:DAYLIGHT
TZOFFSETFROM:-0800
TZOFFSETTO:-0700
TZNAME:PDT
DTSTART:20260308T100000
END:DAYLIGHT
BEGIN:STANDARD
TZOFFSETFROM:-0700
TZOFFSETTO:-0800
TZNAME:PST
DTSTART:20261101T090000
END:STANDARD
BEGIN:DAYLIGHT
TZOFFSETFROM:-0800
TZOFFSETTO:-0700
TZNAME:PDT
DTSTART:20270314T100000
END:DAYLIGHT
BEGIN:STANDARD
TZOFFSETFROM:-0700
TZOFFSETTO:-0800
TZNAME:PST
DTSTART:20271107T090000
END:STANDARD
BEGIN:DAYLIGHT
TZOFFSETFROM:-0800
TZOFFSETTO:-0700
TZNAME:PDT
DTSTART:20280312T100000
END:DAYLIGHT
BEGIN:STANDARD
TZOFFSETFROM:-0700
TZOFFSETTO:-0800
TZNAME:PST
DTSTART:20281105T090000
END:STANDARD
END:VTIMEZONE
BEGIN:VEVENT
DTSTART;TZID=America/Los_Angeles:20261008T180000
DTEND;TZID=America/Los_Angeles:20261008T200000
DTSTAMP:20260425T115413
CREATED:20260424T201147Z
LAST-MODIFIED:20260424T201147Z
UID:10000029-1791482400-1791489600@rootedvalley.com
SUMMARY:Downtown Yakima Run Club
DESCRIPTION:Downtown Yakima Run Club meets every other Thursday at 6pm
URL:https://rootedvalley.com/event/downtown-yakima-run-club/2026-10-08/
ATTACH;FMTTYPE=image/png:https://rootedvalley.com/wp-content/uploads/2026/04/Orange-Modern-Summer-Trail-Run-Event-Instagram-Post-16-x-9-in.png
ORGANIZER;CN="Rooted Yakima Valley":MAILTO:info@rootedvalley.com
END:VEVENT
BEGIN:VEVENT
DTSTART;TZID=America/Los_Angeles:20261022T180000
DTEND;TZID=America/Los_Angeles:20261022T200000
DTSTAMP:20260425T115413
CREATED:20260424T201147Z
LAST-MODIFIED:20260424T201147Z
UID:10000030-1792692000-1792699200@rootedvalley.com
SUMMARY:Downtown Yakima Run Club
DESCRIPTION:Downtown Yakima Run Club meets every other Thursday at 6pm
URL:https://rootedvalley.com/event/downtown-yakima-run-club/2026-10-22/
ATTACH;FMTTYPE=image/png:https://rootedvalley.com/wp-content/uploads/2026/04/Orange-Modern-Summer-Trail-Run-Event-Instagram-Post-16-x-9-in.png
ORGANIZER;CN="Rooted Yakima Valley":MAILTO:info@rootedvalley.com
END:VEVENT
BEGIN:VEVENT
DTSTART;TZID=America/Los_Angeles:20261105T180000
DTEND;TZID=America/Los_Angeles:20261105T200000
DTSTAMP:20260425T115413
CREATED:20260424T201147Z
LAST-MODIFIED:20260424T201147Z
UID:10000031-1793901600-1793908800@rootedvalley.com
SUMMARY:Downtown Yakima Run Club
DESCRIPTION:Downtown Yakima Run Club meets every other Thursday at 6pm
URL:https://rootedvalley.com/event/downtown-yakima-run-club/2026-11-05/
ATTACH;FMTTYPE=image/png:https://rootedvalley.com/wp-content/uploads/2026/04/Orange-Modern-Summer-Trail-Run-Event-Instagram-Post-16-x-9-in.png
ORGANIZER;CN="Rooted Yakima Valley":MAILTO:info@rootedvalley.com
END:VEVENT
BEGIN:VEVENT
DTSTART;TZID=America/Los_Angeles:20261119T180000
DTEND;TZID=America/Los_Angeles:20261119T200000
DTSTAMP:20260425T115413
CREATED:20260424T201147Z
LAST-MODIFIED:20260424T201147Z
UID:10000032-1795111200-1795118400@rootedvalley.com
SUMMARY:Downtown Yakima Run Club
DESCRIPTION:Downtown Yakima Run Club meets every other Thursday at 6pm
URL:https://rootedvalley.com/event/downtown-yakima-run-club/2026-11-19/
ATTACH;FMTTYPE=image/png:https://rootedvalley.com/wp-content/uploads/2026/04/Orange-Modern-Summer-Trail-Run-Event-Instagram-Post-16-x-9-in.png
ORGANIZER;CN="Rooted Yakima Valley":MAILTO:info@rootedvalley.com
END:VEVENT
BEGIN:VEVENT
DTSTART;TZID=America/Los_Angeles:20261203T180000
DTEND;TZID=America/Los_Angeles:20261203T200000
DTSTAMP:20260425T115413
CREATED:20260424T201147Z
LAST-MODIFIED:20260424T201147Z
UID:10000033-1796320800-1796328000@rootedvalley.com
SUMMARY:Downtown Yakima Run Club
DESCRIPTION:Downtown Yakima Run Club meets every other Thursday at 6pm
URL:https://rootedvalley.com/event/downtown-yakima-run-club/2026-12-03/
ATTACH;FMTTYPE=image/png:https://rootedvalley.com/wp-content/uploads/2026/04/Orange-Modern-Summer-Trail-Run-Event-Instagram-Post-16-x-9-in.png
ORGANIZER;CN="Rooted Yakima Valley":MAILTO:info@rootedvalley.com
END:VEVENT
BEGIN:VEVENT
DTSTART;TZID=America/Los_Angeles:20261217T180000
DTEND;TZID=America/Los_Angeles:20261217T200000
DTSTAMP:20260425T115413
CREATED:20260424T201147Z
LAST-MODIFIED:20260424T201147Z
UID:10000034-1797530400-1797537600@rootedvalley.com
SUMMARY:Downtown Yakima Run Club
DESCRIPTION:Downtown Yakima Run Club meets every other Thursday at 6pm
URL:https://rootedvalley.com/event/downtown-yakima-run-club/2026-12-17/
ATTACH;FMTTYPE=image/png:https://rootedvalley.com/wp-content/uploads/2026/04/Orange-Modern-Summer-Trail-Run-Event-Instagram-Post-16-x-9-in.png
ORGANIZER;CN="Rooted Yakima Valley":MAILTO:info@rootedvalley.com
END:VEVENT
BEGIN:VEVENT
DTSTART;TZID=America/Los_Angeles:20261231T180000
DTEND;TZID=America/Los_Angeles:20261231T200000
DTSTAMP:20260425T115413
CREATED:20260424T201147Z
LAST-MODIFIED:20260424T201147Z
UID:10000035-1798740000-1798747200@rootedvalley.com
SUMMARY:Downtown Yakima Run Club
DESCRIPTION:Downtown Yakima Run Club meets every other Thursday at 6pm
URL:https://rootedvalley.com/event/downtown-yakima-run-club/2026-12-31/
ATTACH;FMTTYPE=image/png:https://rootedvalley.com/wp-content/uploads/2026/04/Orange-Modern-Summer-Trail-Run-Event-Instagram-Post-16-x-9-in.png
ORGANIZER;CN="Rooted Yakima Valley":MAILTO:info@rootedvalley.com
END:VEVENT
BEGIN:VEVENT
DTSTART;TZID=America/Los_Angeles:20270114T180000
DTEND;TZID=America/Los_Angeles:20270114T200000
DTSTAMP:20260425T115413
CREATED:20260424T201147Z
LAST-MODIFIED:20260424T201147Z
UID:10000036-1799949600-1799956800@rootedvalley.com
SUMMARY:Downtown Yakima Run Club
DESCRIPTION:Downtown Yakima Run Club meets every other Thursday at 6pm
URL:https://rootedvalley.com/event/downtown-yakima-run-club/2027-01-14/
ATTACH;FMTTYPE=image/png:https://rootedvalley.com/wp-content/uploads/2026/04/Orange-Modern-Summer-Trail-Run-Event-Instagram-Post-16-x-9-in.png
ORGANIZER;CN="Rooted Yakima Valley":MAILTO:info@rootedvalley.com
END:VEVENT
BEGIN:VEVENT
DTSTART;TZID=America/Los_Angeles:20270128T180000
DTEND;TZID=America/Los_Angeles:20270128T200000
DTSTAMP:20260425T115413
CREATED:20260424T201147Z
LAST-MODIFIED:20260424T201147Z
UID:10000037-1801159200-1801166400@rootedvalley.com
SUMMARY:Downtown Yakima Run Club
DESCRIPTION:Downtown Yakima Run Club meets every other Thursday at 6pm
URL:https://rootedvalley.com/event/downtown-yakima-run-club/2027-01-28/
ATTACH;FMTTYPE=image/png:https://rootedvalley.com/wp-content/uploads/2026/04/Orange-Modern-Summer-Trail-Run-Event-Instagram-Post-16-x-9-in.png
ORGANIZER;CN="Rooted Yakima Valley":MAILTO:info@rootedvalley.com
END:VEVENT
BEGIN:VEVENT
DTSTART;TZID=America/Los_Angeles:20270211T180000
DTEND;TZID=America/Los_Angeles:20270211T200000
DTSTAMP:20260425T115413
CREATED:20260424T201147Z
LAST-MODIFIED:20260424T201147Z
UID:10000038-1802368800-1802376000@rootedvalley.com
SUMMARY:Downtown Yakima Run Club
DESCRIPTION:Downtown Yakima Run Club meets every other Thursday at 6pm
URL:https://rootedvalley.com/event/downtown-yakima-run-club/2027-02-11/
ATTACH;FMTTYPE=image/png:https://rootedvalley.com/wp-content/uploads/2026/04/Orange-Modern-Summer-Trail-Run-Event-Instagram-Post-16-x-9-in.png
ORGANIZER;CN="Rooted Yakima Valley":MAILTO:info@rootedvalley.com
END:VEVENT
BEGIN:VEVENT
DTSTART;TZID=America/Los_Angeles:20270225T180000
DTEND;TZID=America/Los_Angeles:20270225T200000
DTSTAMP:20260425T115413
CREATED:20260424T201147Z
LAST-MODIFIED:20260424T201147Z
UID:10000039-1803578400-1803585600@rootedvalley.com
SUMMARY:Downtown Yakima Run Club
DESCRIPTION:Downtown Yakima Run Club meets every other Thursday at 6pm
URL:https://rootedvalley.com/event/downtown-yakima-run-club/2027-02-25/
ATTACH;FMTTYPE=image/png:https://rootedvalley.com/wp-content/uploads/2026/04/Orange-Modern-Summer-Trail-Run-Event-Instagram-Post-16-x-9-in.png
ORGANIZER;CN="Rooted Yakima Valley":MAILTO:info@rootedvalley.com
END:VEVENT
BEGIN:VEVENT
DTSTART;TZID=America/Los_Angeles:20270311T180000
DTEND;TZID=America/Los_Angeles:20270311T200000
DTSTAMP:20260425T115413
CREATED:20260424T201147Z
LAST-MODIFIED:20260424T201147Z
UID:10000040-1804788000-1804795200@rootedvalley.com
SUMMARY:Downtown Yakima Run Club
DESCRIPTION:Downtown Yakima Run Club meets every other Thursday at 6pm
URL:https://rootedvalley.com/event/downtown-yakima-run-club/2027-03-11/
ATTACH;FMTTYPE=image/png:https://rootedvalley.com/wp-content/uploads/2026/04/Orange-Modern-Summer-Trail-Run-Event-Instagram-Post-16-x-9-in.png
ORGANIZER;CN="Rooted Yakima Valley":MAILTO:info@rootedvalley.com
END:VEVENT
BEGIN:VEVENT
DTSTART;TZID=America/Los_Angeles:20270325T180000
DTEND;TZID=America/Los_Angeles:20270325T200000
DTSTAMP:20260425T115413
CREATED:20260424T201147Z
LAST-MODIFIED:20260424T201147Z
UID:10000041-1805997600-1806004800@rootedvalley.com
SUMMARY:Downtown Yakima Run Club
DESCRIPTION:Downtown Yakima Run Club meets every other Thursday at 6pm
URL:https://rootedvalley.com/event/downtown-yakima-run-club/2027-03-25/
ATTACH;FMTTYPE=image/png:https://rootedvalley.com/wp-content/uploads/2026/04/Orange-Modern-Summer-Trail-Run-Event-Instagram-Post-16-x-9-in.png
ORGANIZER;CN="Rooted Yakima Valley":MAILTO:info@rootedvalley.com
END:VEVENT
BEGIN:VEVENT
DTSTART;TZID=America/Los_Angeles:20270408T180000
DTEND;TZID=America/Los_Angeles:20270408T200000
DTSTAMP:20260425T115413
CREATED:20260424T201147Z
LAST-MODIFIED:20260424T201147Z
UID:10000042-1807207200-1807214400@rootedvalley.com
SUMMARY:Downtown Yakima Run Club
DESCRIPTION:Downtown Yakima Run Club meets every other Thursday at 6pm
URL:https://rootedvalley.com/event/downtown-yakima-run-club/2027-04-08/
ATTACH;FMTTYPE=image/png:https://rootedvalley.com/wp-content/uploads/2026/04/Orange-Modern-Summer-Trail-Run-Event-Instagram-Post-16-x-9-in.png
ORGANIZER;CN="Rooted Yakima Valley":MAILTO:info@rootedvalley.com
END:VEVENT
BEGIN:VEVENT
DTSTART;TZID=America/Los_Angeles:20270422T180000
DTEND;TZID=America/Los_Angeles:20270422T200000
DTSTAMP:20260425T115413
CREATED:20260424T201147Z
LAST-MODIFIED:20260424T201147Z
UID:10000043-1808416800-1808424000@rootedvalley.com
SUMMARY:Downtown Yakima Run Club
DESCRIPTION:Downtown Yakima Run Club meets every other Thursday at 6pm
URL:https://rootedvalley.com/event/downtown-yakima-run-club/2027-04-22/
ATTACH;FMTTYPE=image/png:https://rootedvalley.com/wp-content/uploads/2026/04/Orange-Modern-Summer-Trail-Run-Event-Instagram-Post-16-x-9-in.png
ORGANIZER;CN="Rooted Yakima Valley":MAILTO:info@rootedvalley.com
END:VEVENT
BEGIN:VEVENT
DTSTART;TZID=America/Los_Angeles:20270506T180000
DTEND;TZID=America/Los_Angeles:20270506T200000
DTSTAMP:20260425T115413
CREATED:20260424T201147Z
LAST-MODIFIED:20260424T201147Z
UID:10000044-1809626400-1809633600@rootedvalley.com
SUMMARY:Downtown Yakima Run Club
DESCRIPTION:Downtown Yakima Run Club meets every other Thursday at 6pm
URL:https://rootedvalley.com/event/downtown-yakima-run-club/2027-05-06/
ATTACH;FMTTYPE=image/png:https://rootedvalley.com/wp-content/uploads/2026/04/Orange-Modern-Summer-Trail-Run-Event-Instagram-Post-16-x-9-in.png
ORGANIZER;CN="Rooted Yakima Valley":MAILTO:info@rootedvalley.com
END:VEVENT
BEGIN:VEVENT
DTSTART;TZID=America/Los_Angeles:20270520T180000
DTEND;TZID=America/Los_Angeles:20270520T200000
DTSTAMP:20260425T115413
CREATED:20260424T201147Z
LAST-MODIFIED:20260424T201147Z
UID:10000045-1810836000-1810843200@rootedvalley.com
SUMMARY:Downtown Yakima Run Club
DESCRIPTION:Downtown Yakima Run Club meets every other Thursday at 6pm
URL:https://rootedvalley.com/event/downtown-yakima-run-club/2027-05-20/
ATTACH;FMTTYPE=image/png:https://rootedvalley.com/wp-content/uploads/2026/04/Orange-Modern-Summer-Trail-Run-Event-Instagram-Post-16-x-9-in.png
ORGANIZER;CN="Rooted Yakima Valley":MAILTO:info@rootedvalley.com
END:VEVENT
BEGIN:VEVENT
DTSTART;TZID=America/Los_Angeles:20270603T180000
DTEND;TZID=America/Los_Angeles:20270603T200000
DTSTAMP:20260425T115413
CREATED:20260424T201147Z
LAST-MODIFIED:20260424T201147Z
UID:10000046-1812045600-1812052800@rootedvalley.com
SUMMARY:Downtown Yakima Run Club
DESCRIPTION:Downtown Yakima Run Club meets every other Thursday at 6pm
URL:https://rootedvalley.com/event/downtown-yakima-run-club/2027-06-03/
ATTACH;FMTTYPE=image/png:https://rootedvalley.com/wp-content/uploads/2026/04/Orange-Modern-Summer-Trail-Run-Event-Instagram-Post-16-x-9-in.png
ORGANIZER;CN="Rooted Yakima Valley":MAILTO:info@rootedvalley.com
END:VEVENT
BEGIN:VEVENT
DTSTART;TZID=America/Los_Angeles:20270617T180000
DTEND;TZID=America/Los_Angeles:20270617T200000
DTSTAMP:20260425T115413
CREATED:20260424T201147Z
LAST-MODIFIED:20260424T201147Z
UID:10000047-1813255200-1813262400@rootedvalley.com
SUMMARY:Downtown Yakima Run Club
DESCRIPTION:Downtown Yakima Run Club meets every other Thursday at 6pm
URL:https://rootedvalley.com/event/downtown-yakima-run-club/2027-06-17/
ATTACH;FMTTYPE=image/png:https://rootedvalley.com/wp-content/uploads/2026/04/Orange-Modern-Summer-Trail-Run-Event-Instagram-Post-16-x-9-in.png
ORGANIZER;CN="Rooted Yakima Valley":MAILTO:info@rootedvalley.com
END:VEVENT
BEGIN:VEVENT
DTSTART;TZID=America/Los_Angeles:20270701T180000
DTEND;TZID=America/Los_Angeles:20270701T200000
DTSTAMP:20260425T115413
CREATED:20260424T201147Z
LAST-MODIFIED:20260424T201147Z
UID:10000048-1814464800-1814472000@rootedvalley.com
SUMMARY:Downtown Yakima Run Club
DESCRIPTION:Downtown Yakima Run Club meets every other Thursday at 6pm
URL:https://rootedvalley.com/event/downtown-yakima-run-club/2027-07-01/
ATTACH;FMTTYPE=image/png:https://rootedvalley.com/wp-content/uploads/2026/04/Orange-Modern-Summer-Trail-Run-Event-Instagram-Post-16-x-9-in.png
ORGANIZER;CN="Rooted Yakima Valley":MAILTO:info@rootedvalley.com
END:VEVENT
BEGIN:VEVENT
DTSTART;TZID=America/Los_Angeles:20270715T180000
DTEND;TZID=America/Los_Angeles:20270715T200000
DTSTAMP:20260425T115413
CREATED:20260424T201147Z
LAST-MODIFIED:20260424T201147Z
UID:10000049-1815674400-1815681600@rootedvalley.com
SUMMARY:Downtown Yakima Run Club
DESCRIPTION:Downtown Yakima Run Club meets every other Thursday at 6pm
URL:https://rootedvalley.com/event/downtown-yakima-run-club/2027-07-15/
ATTACH;FMTTYPE=image/png:https://rootedvalley.com/wp-content/uploads/2026/04/Orange-Modern-Summer-Trail-Run-Event-Instagram-Post-16-x-9-in.png
ORGANIZER;CN="Rooted Yakima Valley":MAILTO:info@rootedvalley.com
END:VEVENT
BEGIN:VEVENT
DTSTART;TZID=America/Los_Angeles:20270729T180000
DTEND;TZID=America/Los_Angeles:20270729T200000
DTSTAMP:20260425T115413
CREATED:20260424T201147Z
LAST-MODIFIED:20260424T201147Z
UID:10000050-1816884000-1816891200@rootedvalley.com
SUMMARY:Downtown Yakima Run Club
DESCRIPTION:Downtown Yakima Run Club meets every other Thursday at 6pm
URL:https://rootedvalley.com/event/downtown-yakima-run-club/2027-07-29/
ATTACH;FMTTYPE=image/png:https://rootedvalley.com/wp-content/uploads/2026/04/Orange-Modern-Summer-Trail-Run-Event-Instagram-Post-16-x-9-in.png
ORGANIZER;CN="Rooted Yakima Valley":MAILTO:info@rootedvalley.com
END:VEVENT
BEGIN:VEVENT
DTSTART;TZID=America/Los_Angeles:20270812T180000
DTEND;TZID=America/Los_Angeles:20270812T200000
DTSTAMP:20260425T115413
CREATED:20260424T201147Z
LAST-MODIFIED:20260424T201147Z
UID:10000051-1818093600-1818100800@rootedvalley.com
SUMMARY:Downtown Yakima Run Club
DESCRIPTION:Downtown Yakima Run Club meets every other Thursday at 6pm
URL:https://rootedvalley.com/event/downtown-yakima-run-club/2027-08-12/
ATTACH;FMTTYPE=image/png:https://rootedvalley.com/wp-content/uploads/2026/04/Orange-Modern-Summer-Trail-Run-Event-Instagram-Post-16-x-9-in.png
ORGANIZER;CN="Rooted Yakima Valley":MAILTO:info@rootedvalley.com
END:VEVENT
BEGIN:VEVENT
DTSTART;TZID=America/Los_Angeles:20270826T180000
DTEND;TZID=America/Los_Angeles:20270826T200000
DTSTAMP:20260425T115413
CREATED:20260424T201147Z
LAST-MODIFIED:20260424T201147Z
UID:10000052-1819303200-1819310400@rootedvalley.com
SUMMARY:Downtown Yakima Run Club
DESCRIPTION:Downtown Yakima Run Club meets every other Thursday at 6pm
URL:https://rootedvalley.com/event/downtown-yakima-run-club/2027-08-26/
ATTACH;FMTTYPE=image/png:https://rootedvalley.com/wp-content/uploads/2026/04/Orange-Modern-Summer-Trail-Run-Event-Instagram-Post-16-x-9-in.png
ORGANIZER;CN="Rooted Yakima Valley":MAILTO:info@rootedvalley.com
END:VEVENT
BEGIN:VEVENT
DTSTART;TZID=America/Los_Angeles:20270909T180000
DTEND;TZID=America/Los_Angeles:20270909T200000
DTSTAMP:20260425T115413
CREATED:20260424T201147Z
LAST-MODIFIED:20260424T201147Z
UID:10000053-1820512800-1820520000@rootedvalley.com
SUMMARY:Downtown Yakima Run Club
DESCRIPTION:Downtown Yakima Run Club meets every other Thursday at 6pm
URL:https://rootedvalley.com/event/downtown-yakima-run-club/2027-09-09/
ATTACH;FMTTYPE=image/png:https://rootedvalley.com/wp-content/uploads/2026/04/Orange-Modern-Summer-Trail-Run-Event-Instagram-Post-16-x-9-in.png
ORGANIZER;CN="Rooted Yakima Valley":MAILTO:info@rootedvalley.com
END:VEVENT
BEGIN:VEVENT
DTSTART;TZID=America/Los_Angeles:20270923T180000
DTEND;TZID=America/Los_Angeles:20270923T200000
DTSTAMP:20260425T115413
CREATED:20260424T201147Z
LAST-MODIFIED:20260424T201147Z
UID:10000054-1821722400-1821729600@rootedvalley.com
SUMMARY:Downtown Yakima Run Club
DESCRIPTION:Downtown Yakima Run Club meets every other Thursday at 6pm
URL:https://rootedvalley.com/event/downtown-yakima-run-club/2027-09-23/
ATTACH;FMTTYPE=image/png:https://rootedvalley.com/wp-content/uploads/2026/04/Orange-Modern-Summer-Trail-Run-Event-Instagram-Post-16-x-9-in.png
ORGANIZER;CN="Rooted Yakima Valley":MAILTO:info@rootedvalley.com
END:VEVENT
BEGIN:VEVENT
DTSTART;TZID=America/Los_Angeles:20271007T180000
DTEND;TZID=America/Los_Angeles:20271007T200000
DTSTAMP:20260425T115413
CREATED:20260424T201147Z
LAST-MODIFIED:20260424T201147Z
UID:10000055-1822932000-1822939200@rootedvalley.com
SUMMARY:Downtown Yakima Run Club
DESCRIPTION:Downtown Yakima Run Club meets every other Thursday at 6pm
URL:https://rootedvalley.com/event/downtown-yakima-run-club/2027-10-07/
ATTACH;FMTTYPE=image/png:https://rootedvalley.com/wp-content/uploads/2026/04/Orange-Modern-Summer-Trail-Run-Event-Instagram-Post-16-x-9-in.png
ORGANIZER;CN="Rooted Yakima Valley":MAILTO:info@rootedvalley.com
END:VEVENT
BEGIN:VEVENT
DTSTART;TZID=America/Los_Angeles:20271021T180000
DTEND;TZID=America/Los_Angeles:20271021T200000
DTSTAMP:20260425T115413
CREATED:20260424T201147Z
LAST-MODIFIED:20260424T201147Z
UID:10000056-1824141600-1824148800@rootedvalley.com
SUMMARY:Downtown Yakima Run Club
DESCRIPTION:Downtown Yakima Run Club meets every other Thursday at 6pm
URL:https://rootedvalley.com/event/downtown-yakima-run-club/2027-10-21/
ATTACH;FMTTYPE=image/png:https://rootedvalley.com/wp-content/uploads/2026/04/Orange-Modern-Summer-Trail-Run-Event-Instagram-Post-16-x-9-in.png
ORGANIZER;CN="Rooted Yakima Valley":MAILTO:info@rootedvalley.com
END:VEVENT
BEGIN:VEVENT
DTSTART;TZID=America/Los_Angeles:20271104T180000
DTEND;TZID=America/Los_Angeles:20271104T200000
DTSTAMP:20260425T115413
CREATED:20260424T201147Z
LAST-MODIFIED:20260424T201147Z
UID:10000057-1825351200-1825358400@rootedvalley.com
SUMMARY:Downtown Yakima Run Club
DESCRIPTION:Downtown Yakima Run Club meets every other Thursday at 6pm
URL:https://rootedvalley.com/event/downtown-yakima-run-club/2027-11-04/
ATTACH;FMTTYPE=image/png:https://rootedvalley.com/wp-content/uploads/2026/04/Orange-Modern-Summer-Trail-Run-Event-Instagram-Post-16-x-9-in.png
ORGANIZER;CN="Rooted Yakima Valley":MAILTO:info@rootedvalley.com
END:VEVENT
BEGIN:VEVENT
DTSTART;TZID=America/Los_Angeles:20271118T180000
DTEND;TZID=America/Los_Angeles:20271118T200000
DTSTAMP:20260425T115413
CREATED:20260424T201147Z
LAST-MODIFIED:20260424T201147Z
UID:10000058-1826560800-1826568000@rootedvalley.com
SUMMARY:Downtown Yakima Run Club
DESCRIPTION:Downtown Yakima Run Club meets every other Thursday at 6pm
URL:https://rootedvalley.com/event/downtown-yakima-run-club/2027-11-18/
ATTACH;FMTTYPE=image/png:https://rootedvalley.com/wp-content/uploads/2026/04/Orange-Modern-Summer-Trail-Run-Event-Instagram-Post-16-x-9-in.png
ORGANIZER;CN="Rooted Yakima Valley":MAILTO:info@rootedvalley.com
END:VEVENT
END:VCALENDAR