BEGIN:VCALENDAR
VERSION:2.0
PRODID:-//Rooted - ECPv6.15.20//NONSGML v1.0//EN
CALSCALE:GREGORIAN
METHOD:PUBLISH
X-ORIGINAL-URL:https://rootedvalley.com
X-WR-CALDESC:Events for Rooted
REFRESH-INTERVAL;VALUE=DURATION:PT1H
X-Robots-Tag:noindex
X-PUBLISHED-TTL:PT1H
BEGIN:VTIMEZONE
TZID:America/Los_Angeles
BEGIN:DAYLIGHT
TZOFFSETFROM:-0800
TZOFFSETTO:-0700
TZNAME:PDT
DTSTART:20250309T100000
END:DAYLIGHT
BEGIN:STANDARD
TZOFFSETFROM:-0700
TZOFFSETTO:-0800
TZNAME:PST
DTSTART:20251102T090000
END:STANDARD
BEGIN:DAYLIGHT
TZOFFSETFROM:-0800
TZOFFSETTO:-0700
TZNAME:PDT
DTSTART:20260308T100000
END:DAYLIGHT
BEGIN:STANDARD
TZOFFSETFROM:-0700
TZOFFSETTO:-0800
TZNAME:PST
DTSTART:20261101T090000
END:STANDARD
BEGIN:DAYLIGHT
TZOFFSETFROM:-0800
TZOFFSETTO:-0700
TZNAME:PDT
DTSTART:20270314T100000
END:DAYLIGHT
BEGIN:STANDARD
TZOFFSETFROM:-0700
TZOFFSETTO:-0800
TZNAME:PST
DTSTART:20271107T090000
END:STANDARD
END:VTIMEZONE
BEGIN:VEVENT
DTSTART;TZID=America/Los_Angeles:20260427T170000
DTEND;TZID=America/Los_Angeles:20260427T200000
DTSTAMP:20260423T144129
CREATED:20260326T053839Z
LAST-MODIFIED:20260415T032620Z
UID:10000003-1777309200-1777320000@rootedvalley.com
SUMMARY:Must Love Dogs
DESCRIPTION:Hosted by Back Home — Terrace Heights and YakPak: \nYakima is full of people who care about dogs.\nThey just don’t always end up in the same room. \nSo let’s fix that. \nOn Monday\, April 27\, we’re inviting the dog people of Yakima County to come together for one simple night. \nNo speeches.\nNo big agenda.\nJust good people\, good dogs\, live music\, and conversation. \nRescuers. Neighbors. Foster homes.\nTeachers. Police officers. Local leaders.\nAnyone who believes Yakima can be a place where dogs are treated better. \nBecause change doesn’t start with a program.\nIt starts when the right people finally meet each other.  \n📍 Rooted Yakima Valley\n🗓 Monday\, April 27\n⏰ 5–8 PM (Live Music) \n$1 from every pint supports Back Home — Terrace Heights & the YakPack. \nYakima loves dogs.\nNow let’s prove it.
URL:https://rootedvalley.com/event/must-love-dogs/
LOCATION:Rooted Yakima Valley
ATTACH;FMTTYPE=image/png:https://rootedvalley.com/wp-content/uploads/2026/03/MustLoveDogs.png
END:VEVENT
BEGIN:VEVENT
DTSTART;TZID=America/Los_Angeles:20260428T180000
DTEND;TZID=America/Los_Angeles:20260428T193000
DTSTAMP:20260423T144129
CREATED:20260415T031018Z
LAST-MODIFIED:20260415T031018Z
UID:10000014-1777399200-1777404600@rootedvalley.com
SUMMARY:Beer Club
DESCRIPTION:Get ready to tap into the Rooted BEER CLUB with Rachel Verhey\, a seasoned expert in craft beer and brewing. With years of knowledge\, Rachel invites you to join tastings\, sensory sessions\, and chats with guest speakers. Whether you’re a novice or pro\, you’re welcome.  \nThis event is open to the public.
URL:https://rootedvalley.com/event/beer-club/
LOCATION:Rooted Yakima Valley
ATTACH;FMTTYPE=image/png:https://rootedvalley.com/wp-content/uploads/2026/04/Orange-Happy-Hour-Beer-Flyer-16-x-9-in.png
END:VEVENT
BEGIN:VEVENT
DTSTART;TZID=America/Los_Angeles:20260430T173000
DTEND;TZID=America/Los_Angeles:20260430T210000
DTSTAMP:20260423T144129
CREATED:20260407T023314Z
LAST-MODIFIED:20260415T022727Z
UID:10000007-1777570200-1777582800@rootedvalley.com
SUMMARY:Rooted Vinyl Night
DESCRIPTION:Come and bring your own records to share and enjoy with everyone\, or just come and enjoy the vibes and check out our amazing space ✨
URL:https://rootedvalley.com/event/rooted-vinyl-night/2026-04-30/
ATTACH;FMTTYPE=image/webp:https://rootedvalley.com/wp-content/uploads/2026/03/Vinyl-Night-Music_16-9.webp
END:VEVENT
BEGIN:VEVENT
DTSTART;TZID=America/Los_Angeles:20260514T173000
DTEND;TZID=America/Los_Angeles:20260514T210000
DTSTAMP:20260423T144129
CREATED:20260407T023314Z
LAST-MODIFIED:20260415T022727Z
UID:10000010-1778779800-1778792400@rootedvalley.com
SUMMARY:Rooted Vinyl Night
DESCRIPTION:Come and bring your own records to share and enjoy with everyone\, or just come and enjoy the vibes and check out our amazing space ✨
URL:https://rootedvalley.com/event/rooted-vinyl-night/2026-05-14/
ATTACH;FMTTYPE=image/webp:https://rootedvalley.com/wp-content/uploads/2026/03/Vinyl-Night-Music_16-9.webp
END:VEVENT
BEGIN:VEVENT
DTSTART;TZID=America/Los_Angeles:20260528T173000
DTEND;TZID=America/Los_Angeles:20260528T210000
DTSTAMP:20260423T144129
CREATED:20260407T023314Z
LAST-MODIFIED:20260415T022727Z
UID:10000011-1779989400-1780002000@rootedvalley.com
SUMMARY:Rooted Vinyl Night
DESCRIPTION:Come and bring your own records to share and enjoy with everyone\, or just come and enjoy the vibes and check out our amazing space ✨
URL:https://rootedvalley.com/event/rooted-vinyl-night/2026-05-28/
ATTACH;FMTTYPE=image/webp:https://rootedvalley.com/wp-content/uploads/2026/03/Vinyl-Night-Music_16-9.webp
END:VEVENT
BEGIN:VEVENT
DTSTART;TZID=America/Los_Angeles:20260611T173000
DTEND;TZID=America/Los_Angeles:20260611T210000
DTSTAMP:20260423T144129
CREATED:20260407T023314Z
LAST-MODIFIED:20260415T022727Z
UID:10000012-1781199000-1781211600@rootedvalley.com
SUMMARY:Rooted Vinyl Night
DESCRIPTION:Come and bring your own records to share and enjoy with everyone\, or just come and enjoy the vibes and check out our amazing space ✨
URL:https://rootedvalley.com/event/rooted-vinyl-night/2026-06-11/
ATTACH;FMTTYPE=image/webp:https://rootedvalley.com/wp-content/uploads/2026/03/Vinyl-Night-Music_16-9.webp
END:VEVENT
BEGIN:VEVENT
DTSTART;TZID=America/Los_Angeles:20260625T173000
DTEND;TZID=America/Los_Angeles:20260625T210000
DTSTAMP:20260423T144129
CREATED:20260407T023314Z
LAST-MODIFIED:20260415T022727Z
UID:10000013-1782408600-1782421200@rootedvalley.com
SUMMARY:Rooted Vinyl Night
DESCRIPTION:Come and bring your own records to share and enjoy with everyone\, or just come and enjoy the vibes and check out our amazing space ✨
URL:https://rootedvalley.com/event/rooted-vinyl-night/2026-06-25/
ATTACH;FMTTYPE=image/webp:https://rootedvalley.com/wp-content/uploads/2026/03/Vinyl-Night-Music_16-9.webp
END:VEVENT
END:VCALENDAR