BEGIN:VCALENDAR
VERSION:2.0
PRODID:-//Rooted - ECPv6.15.20//NONSGML v1.0//EN
CALSCALE:GREGORIAN
METHOD:PUBLISH
X-WR-CALNAME:Rooted
X-ORIGINAL-URL:https://rootedvalley.com
X-WR-CALDESC:Events for Rooted
REFRESH-INTERVAL;VALUE=DURATION:PT1H
X-Robots-Tag:noindex
X-PUBLISHED-TTL:PT1H
BEGIN:VTIMEZONE
TZID:America/Los_Angeles
BEGIN:DAYLIGHT
TZOFFSETFROM:-0800
TZOFFSETTO:-0700
TZNAME:PDT
DTSTART:20250309T100000
END:DAYLIGHT
BEGIN:STANDARD
TZOFFSETFROM:-0700
TZOFFSETTO:-0800
TZNAME:PST
DTSTART:20251102T090000
END:STANDARD
BEGIN:DAYLIGHT
TZOFFSETFROM:-0800
TZOFFSETTO:-0700
TZNAME:PDT
DTSTART:20260308T100000
END:DAYLIGHT
BEGIN:STANDARD
TZOFFSETFROM:-0700
TZOFFSETTO:-0800
TZNAME:PST
DTSTART:20261101T090000
END:STANDARD
BEGIN:DAYLIGHT
TZOFFSETFROM:-0800
TZOFFSETTO:-0700
TZNAME:PDT
DTSTART:20270314T100000
END:DAYLIGHT
BEGIN:STANDARD
TZOFFSETFROM:-0700
TZOFFSETTO:-0800
TZNAME:PST
DTSTART:20271107T090000
END:STANDARD
END:VTIMEZONE
BEGIN:VEVENT
DTSTART;TZID=America/Los_Angeles:20260425T120000
DTEND;TZID=America/Los_Angeles:20260425T220000
DTSTAMP:20260425T115503
CREATED:20260424T194318Z
LAST-MODIFIED:20260424T194707Z
UID:10000016-1777118400-1777154400@rootedvalley.com
SUMMARY:Spring Barrel!
DESCRIPTION:Wine tasting with 5 different local wineries! \n 
URL:https://rootedvalley.com/event/spring-barrel/
LOCATION:Rooted Yakima Valley
ATTACH;FMTTYPE=image/png:https://rootedvalley.com/wp-content/uploads/2026/04/Blue-and-White-Modern-Wine-Tasting-Instagram-Post-16-x-9-in.png
ORGANIZER;CN="Rooted Yakima Valley":MAILTO:info@rootedvalley.com
END:VEVENT
END:VCALENDAR